BEGIN:VCALENDAR
VERSION:2.0
PRODID:-//My Calendar//http://www.joedolson.com//v3.0.18//EN
METHOD:PUBLISH
CALSCALE:GREGORIAN
X-WR-CALNAME:VW LoveBus KOMBi -  0438236904 -
X-PUBLISHED-TTL:PT24H
REFRESH-INTERVAL;VALUE=DURATION:PT24H
X-WR-CALDESC:Events from VW LoveBus KOMBi -  0438236904 -
BEGIN:VEVENT
UID:63-59
LOCATION:
SUMMARY:BOOKED
DTSTAMP:20170528T235900
ORGANIZER;CN=admin@vwlovebus.com.au:MAILTO:admin@vwlovebus.com.au
DTSTART;TZID=Australia/Brisbane:20170528T235900
DTEND;TZID=Australia/Brisbane:20170528T235900
URL;VALUE=URI:http://vwlovebus.com.au
DESCRIPTION: 
CATEGORIES:1
END:VEVENT
BEGIN:VEVENT
UID:61-57
LOCATION:
SUMMARY:BOOKED
DTSTAMP:20170623T235900
ORGANIZER;CN=admin@vwlovebus.com.au:MAILTO:admin@vwlovebus.com.au
DTSTART;TZID=Australia/Brisbane:20170623T235900
DTEND;TZID=Australia/Brisbane:20170623T235900
URL;VALUE=URI:http://vwlovebus.com.au
DESCRIPTION: 
CATEGORIES:1
END:VEVENT
BEGIN:VEVENT
UID:60-56
LOCATION:
SUMMARY:BOOKED
DTSTAMP:20170407T235900
ORGANIZER;CN=admin@vwlovebus.com.au:MAILTO:admin@vwlovebus.com.au
DTSTART;TZID=Australia/Brisbane:20170407T235900
DTEND;TZID=Australia/Brisbane:20170407T235900
URL;VALUE=URI:http://vwlovebus.com.au
DESCRIPTION: 
CATEGORIES:1
END:VEVENT
BEGIN:VEVENT
UID:59-55
LOCATION:
SUMMARY:BOOKED
DTSTAMP:20170401T235900
ORGANIZER;CN=admin@vwlovebus.com.au:MAILTO:admin@vwlovebus.com.au
DTSTART;TZID=Australia/Brisbane:20170401T235900
DTEND;TZID=Australia/Brisbane:20170401T235900
URL;VALUE=URI:http://vwlovebus.com.au
DESCRIPTION: 
CATEGORIES:1
END:VEVENT
BEGIN:VEVENT
UID:58-54
LOCATION:
SUMMARY:BOOKED
DTSTAMP:20170304T235900
ORGANIZER;CN=admin@vwlovebus.com.au:MAILTO:admin@vwlovebus.com.au
DTSTART;TZID=Australia/Brisbane:20170304T235900
DTEND;TZID=Australia/Brisbane:20170304T235900
URL;VALUE=URI:http://vwlovebus.com.au
DESCRIPTION: 
CATEGORIES:1
END:VEVENT
BEGIN:VEVENT
UID:57-53
LOCATION:
SUMMARY:BOOKED
DTSTAMP:20170908T000000
ORGANIZER;CN=admin@vwlovebus.com.au:MAILTO:admin@vwlovebus.com.au
DTSTART;TZID=Australia/Brisbane:20170908T000000
DTEND;TZID=Australia/Brisbane:20170909T000000
URL;VALUE=URI:http://vwlovebus.com.au
DESCRIPTION: 
CATEGORIES:1
X-FUNAMBOL-ALLDAY: 1
X-MICROSOFT-CDO-ALLDAYEVENT: TRUE

END:VEVENT
BEGIN:VEVENT
UID:56-52
LOCATION:
SUMMARY:BOOKED
DTSTAMP:20161118T000000
ORGANIZER;CN=admin@vwlovebus.com.au:MAILTO:admin@vwlovebus.com.au
DTSTART;TZID=Australia/Brisbane:20161118T000000
DTEND;TZID=Australia/Brisbane:20161119T000000
URL;VALUE=URI:http://vwlovebus.com.au
DESCRIPTION: 
CATEGORIES:1
X-FUNAMBOL-ALLDAY: 1
X-MICROSOFT-CDO-ALLDAYEVENT: TRUE

END:VEVENT
BEGIN:VEVENT
UID:55-51
LOCATION:
SUMMARY:BOOKED
DTSTAMP:20170506T000000
ORGANIZER;CN=admin@vwlovebus.com.au:MAILTO:admin@vwlovebus.com.au
DTSTART;TZID=Australia/Brisbane:20170506T000000
DTEND;TZID=Australia/Brisbane:20170507T000000
URL;VALUE=URI:http://vwlovebus.com.au
DESCRIPTION: 
CATEGORIES:1
X-FUNAMBOL-ALLDAY: 1
X-MICROSOFT-CDO-ALLDAYEVENT: TRUE

END:VEVENT
BEGIN:VEVENT
UID:53-50
LOCATION:
SUMMARY:BOOKED
DTSTAMP:20170318T235900
ORGANIZER;CN=admin@vwlovebus.com.au:MAILTO:admin@vwlovebus.com.au
DTSTART;TZID=Australia/Brisbane:20170318T235900
DTEND;TZID=Australia/Brisbane:20170318T235900
URL;VALUE=URI:http://vwlovebus.com.au
DESCRIPTION: 
CATEGORIES:1
END:VEVENT
BEGIN:VEVENT
UID:52-49
LOCATION:
SUMMARY:BOOKED
DTSTAMP:20161116T235900
ORGANIZER;CN=admin@vwlovebus.com.au:MAILTO:admin@vwlovebus.com.au
DTSTART;TZID=Australia/Brisbane:20161116T235900
DTEND;TZID=Australia/Brisbane:20161116T235900
URL;VALUE=URI:http://vwlovebus.com.au
DESCRIPTION: 
CATEGORIES:1
END:VEVENT
BEGIN:VEVENT
UID:54-48
LOCATION:
SUMMARY:BOOKED
DTSTAMP:20170520T235900
ORGANIZER;CN=admin@vwlovebus.com.au:MAILTO:admin@vwlovebus.com.au
DTSTART;TZID=Australia/Brisbane:20170520T235900
DTEND;TZID=Australia/Brisbane:20170520T235900
URL;VALUE=URI:http://vwlovebus.com.au
DESCRIPTION: 
CATEGORIES:1
END:VEVENT
BEGIN:VEVENT
UID:50-47
LOCATION:
SUMMARY:BOOKED
DTSTAMP:20160903T000000
ORGANIZER;CN=admin@vwlovebus.com.au:MAILTO:admin@vwlovebus.com.au
DTSTART;TZID=Australia/Brisbane:20160903T000000
DTEND;TZID=Australia/Brisbane:20160904T000000
URL;VALUE=URI:http://vwlovebus.com.au
DESCRIPTION: 
CATEGORIES:1
X-FUNAMBOL-ALLDAY: 1
X-MICROSOFT-CDO-ALLDAYEVENT: TRUE

END:VEVENT
BEGIN:VEVENT
UID:49-46
LOCATION:
SUMMARY:BOOKED
DTSTAMP:20160826T235900
ORGANIZER;CN=admin@vwlovebus.com.au:MAILTO:admin@vwlovebus.com.au
DTSTART;TZID=Australia/Brisbane:20160826T235900
DTEND;TZID=Australia/Brisbane:20160826T235900
URL;VALUE=URI:http://vwlovebus.com.au
DESCRIPTION: 
CATEGORIES:1
END:VEVENT
BEGIN:VEVENT
UID:47-44
LOCATION:
SUMMARY:BOOKED
DTSTAMP:20160813T000000
ORGANIZER;CN=admin@vwlovebus.com.au:MAILTO:admin@vwlovebus.com.au
DTSTART;TZID=Australia/Brisbane:20160813T000000
DTEND;TZID=Australia/Brisbane:20160814T000000
URL;VALUE=URI:http://vwlovebus.com.au
DESCRIPTION: 
CATEGORIES:1
X-FUNAMBOL-ALLDAY: 1
X-MICROSOFT-CDO-ALLDAYEVENT: TRUE

END:VEVENT
BEGIN:VEVENT
UID:46-43
LOCATION:
SUMMARY:BOOKED
DTSTAMP:20170617T000000
ORGANIZER;CN=admin@vwlovebus.com.au:MAILTO:admin@vwlovebus.com.au
DTSTART;TZID=Australia/Brisbane:20170617T000000
DTEND;TZID=Australia/Brisbane:20170618T000000
URL;VALUE=URI:http://vwlovebus.com.au
DESCRIPTION: 
CATEGORIES:1
X-FUNAMBOL-ALLDAY: 1
X-MICROSOFT-CDO-ALLDAYEVENT: TRUE

END:VEVENT
BEGIN:VEVENT
UID:45-42
LOCATION:
SUMMARY:BOOKED
DTSTAMP:20160501T000000
ORGANIZER;CN=admin@vwlovebus.com.au:MAILTO:admin@vwlovebus.com.au
DTSTART;TZID=Australia/Brisbane:20160501T000000
DTEND;TZID=Australia/Brisbane:20160502T000000
URL;VALUE=URI:http://vwlovebus.com.au
DESCRIPTION: 
CATEGORIES:1
X-FUNAMBOL-ALLDAY: 1
X-MICROSOFT-CDO-ALLDAYEVENT: TRUE

END:VEVENT
BEGIN:VEVENT
UID:44-41
LOCATION:
SUMMARY:BOOKED
DTSTAMP:20160319T000000
ORGANIZER;CN=admin@vwlovebus.com.au:MAILTO:admin@vwlovebus.com.au
DTSTART;TZID=Australia/Brisbane:20160319T000000
DTEND;TZID=Australia/Brisbane:20160320T000000
URL;VALUE=URI:http://vwlovebus.com.au
DESCRIPTION: 
CATEGORIES:1
X-FUNAMBOL-ALLDAY: 1
X-MICROSOFT-CDO-ALLDAYEVENT: TRUE

END:VEVENT
BEGIN:VEVENT
UID:42-39
LOCATION:
SUMMARY:BOOKED
DTSTAMP:20160820T000000
ORGANIZER;CN=admin@vwlovebus.com.au:MAILTO:admin@vwlovebus.com.au
DTSTART;TZID=Australia/Brisbane:20160820T000000
DTEND;TZID=Australia/Brisbane:20160821T000000
URL;VALUE=URI:http://vwlovebus.com.au
DESCRIPTION: 
CATEGORIES:1
X-FUNAMBOL-ALLDAY: 1
X-MICROSOFT-CDO-ALLDAYEVENT: TRUE

END:VEVENT
BEGIN:VEVENT
UID:41-38
LOCATION:
SUMMARY:BOOKED
DTSTAMP:20160625T000000
ORGANIZER;CN=admin@vwlovebus.com.au:MAILTO:admin@vwlovebus.com.au
DTSTART;TZID=Australia/Brisbane:20160625T000000
DTEND;TZID=Australia/Brisbane:20160626T000000
URL;VALUE=URI:http://vwlovebus.com.au
DESCRIPTION: 
CATEGORIES:1
X-FUNAMBOL-ALLDAY: 1
X-MICROSOFT-CDO-ALLDAYEVENT: TRUE

END:VEVENT
BEGIN:VEVENT
UID:40-37
LOCATION:
SUMMARY:BOOKED
DTSTAMP:20160224T000000
ORGANIZER;CN=admin@vwlovebus.com.au:MAILTO:admin@vwlovebus.com.au
DTSTART;TZID=Australia/Brisbane:20160224T000000
DTEND;TZID=Australia/Brisbane:20160225T000000
URL;VALUE=URI:http://vwlovebus.com.au
DESCRIPTION: 
CATEGORIES:1
X-FUNAMBOL-ALLDAY: 1
X-MICROSOFT-CDO-ALLDAYEVENT: TRUE

END:VEVENT
BEGIN:VEVENT
UID:39-36
LOCATION:
SUMMARY:BOOKED
DTSTAMP:20160213T000000
ORGANIZER;CN=admin@vwlovebus.com.au:MAILTO:admin@vwlovebus.com.au
DTSTART;TZID=Australia/Brisbane:20160213T000000
DTEND;TZID=Australia/Brisbane:20160213T234500
URL;VALUE=URI:http://vwlovebus.com.au
DESCRIPTION: 
CATEGORIES:1
END:VEVENT
BEGIN:VEVENT
UID:38-35
LOCATION:
SUMMARY:BOOKED
DTSTAMP:20160116T235900
ORGANIZER;CN=admin@vwlovebus.com.au:MAILTO:admin@vwlovebus.com.au
DTSTART;TZID=Australia/Brisbane:20160116T235900
DTEND;TZID=Australia/Brisbane:20160116T235900
URL;VALUE=URI:http://vwlovebus.com.au
DESCRIPTION: 
CATEGORIES:1
END:VEVENT
BEGIN:VEVENT
UID:37-34
LOCATION:
SUMMARY:BOOKED
DTSTAMP:20161112T235900
ORGANIZER;CN=admin@vwlovebus.com.au:MAILTO:admin@vwlovebus.com.au
DTSTART;TZID=Australia/Brisbane:20161112T235900
DTEND;TZID=Australia/Brisbane:20161112T235900
URL;VALUE=URI:http://vwlovebus.com.au
DESCRIPTION: 
CATEGORIES:1
END:VEVENT
BEGIN:VEVENT
UID:36-33
LOCATION:
SUMMARY:BOOKED
DTSTAMP:20160624T000000
ORGANIZER;CN=admin@vwlovebus.com.au:MAILTO:admin@vwlovebus.com.au
DTSTART;TZID=Australia/Brisbane:20160624T000000
DTEND;TZID=Australia/Brisbane:20160625T000000
URL;VALUE=URI:http://vwlovebus.com.au
DESCRIPTION: 
CATEGORIES:1
X-FUNAMBOL-ALLDAY: 1
X-MICROSOFT-CDO-ALLDAYEVENT: TRUE

END:VEVENT
BEGIN:VEVENT
UID:35-32
LOCATION:
SUMMARY:BOOKED
DTSTAMP:20150912T000000
ORGANIZER;CN=admin@vwlovebus.com.au:MAILTO:admin@vwlovebus.com.au
DTSTART;TZID=Australia/Brisbane:20150912T000000
DTEND;TZID=Australia/Brisbane:20150913T000000
URL;VALUE=URI:http://vwlovebus.com.au
DESCRIPTION: 
CATEGORIES:1
X-FUNAMBOL-ALLDAY: 1
X-MICROSOFT-CDO-ALLDAYEVENT: TRUE

END:VEVENT
BEGIN:VEVENT
UID:34-31
LOCATION:
SUMMARY:BOOKED
DTSTAMP:20151114T000000
ORGANIZER;CN=admin@vwlovebus.com.au:MAILTO:admin@vwlovebus.com.au
DTSTART;TZID=Australia/Brisbane:20151114T000000
DTEND;TZID=Australia/Brisbane:20151115T000000
URL;VALUE=URI:http://vwlovebus.com.au
DESCRIPTION: 
CATEGORIES:1
X-FUNAMBOL-ALLDAY: 1
X-MICROSOFT-CDO-ALLDAYEVENT: TRUE

END:VEVENT
BEGIN:VEVENT
UID:33-30
LOCATION:
SUMMARY:BOOKED
DTSTAMP:20160402T000000
ORGANIZER;CN=admin@vwlovebus.com.au:MAILTO:admin@vwlovebus.com.au
DTSTART;TZID=Australia/Brisbane:20160402T000000
DTEND;TZID=Australia/Brisbane:20160403T000000
URL;VALUE=URI:http://vwlovebus.com.au
DESCRIPTION: 
CATEGORIES:1
END:VEVENT
BEGIN:VEVENT
UID:32-29
LOCATION:
SUMMARY:BOOKED
DTSTAMP:20151120T000000
ORGANIZER;CN=admin@vwlovebus.com.au:MAILTO:admin@vwlovebus.com.au
DTSTART;TZID=Australia/Brisbane:20151120T000000
DTEND;TZID=Australia/Brisbane:20151121T000000
URL;VALUE=URI:http://vwlovebus.com.au
DESCRIPTION: 
CATEGORIES:1
END:VEVENT
BEGIN:VEVENT
UID:31-28
LOCATION:
SUMMARY:BOOKED
DTSTAMP:20151017T000000
ORGANIZER;CN=admin@vwlovebus.com.au:MAILTO:admin@vwlovebus.com.au
DTSTART;TZID=Australia/Brisbane:20151017T000000
DTEND;TZID=Australia/Brisbane:20151018T000000
URL;VALUE=URI:http://vwlovebus.com.au
DESCRIPTION: 
CATEGORIES:1
END:VEVENT
BEGIN:VEVENT
UID:30-27
LOCATION:
SUMMARY:BOOKED
DTSTAMP:20151112T000000
ORGANIZER;CN=admin@vwlovebus.com.au:MAILTO:admin@vwlovebus.com.au
DTSTART;TZID=Australia/Brisbane:20151112T000000
DTEND;TZID=Australia/Brisbane:20151113T000000
URL;VALUE=URI:http://vwlovebus.com.au
DESCRIPTION: 
CATEGORIES:1
END:VEVENT
END:VCALENDAR