BEGIN:VCALENDAR
VERSION:2.0
PRODID:-//My Calendar//http://www.joedolson.com//v3.0.18//EN
METHOD:PUBLISH
CALSCALE:GREGORIAN
X-WR-CALNAME:VW LoveBus KOMBi -  0438236904 -
X-PUBLISHED-TTL:PT24H
REFRESH-INTERVAL;VALUE=DURATION:PT24H
X-WR-CALDESC:Events from VW LoveBus KOMBi -  0438236904 -
BEGIN:VEVENT
UID:63-59
LOCATION:
SUMMARY:BOOKED
DTSTAMP:20170528T135900Z
ORGANIZER;CN=admin@vwlovebus.com.au:MAILTO:admin@vwlovebus.com.au
DTSTART;TZID=Australia/Brisbane:20170528T135900Z
DTEND;TZID=Australia/Brisbane:20170528T135900Z
URL;VALUE=URI:http://vwlovebus.com.au
DESCRIPTION: 
CATEGORIES:1
END:VEVENT
BEGIN:VEVENT
UID:61-57
LOCATION:
SUMMARY:BOOKED
DTSTAMP:20170623T135900Z
ORGANIZER;CN=admin@vwlovebus.com.au:MAILTO:admin@vwlovebus.com.au
DTSTART;TZID=Australia/Brisbane:20170623T135900Z
DTEND;TZID=Australia/Brisbane:20170623T135900Z
URL;VALUE=URI:http://vwlovebus.com.au
DESCRIPTION: 
CATEGORIES:1
END:VEVENT
BEGIN:VEVENT
UID:60-56
LOCATION:
SUMMARY:BOOKED
DTSTAMP:20170407T135900Z
ORGANIZER;CN=admin@vwlovebus.com.au:MAILTO:admin@vwlovebus.com.au
DTSTART;TZID=Australia/Brisbane:20170407T135900Z
DTEND;TZID=Australia/Brisbane:20170407T135900Z
URL;VALUE=URI:http://vwlovebus.com.au
DESCRIPTION: 
CATEGORIES:1
END:VEVENT
BEGIN:VEVENT
UID:59-55
LOCATION:
SUMMARY:BOOKED
DTSTAMP:20170401T135900Z
ORGANIZER;CN=admin@vwlovebus.com.au:MAILTO:admin@vwlovebus.com.au
DTSTART;TZID=Australia/Brisbane:20170401T135900Z
DTEND;TZID=Australia/Brisbane:20170401T135900Z
URL;VALUE=URI:http://vwlovebus.com.au
DESCRIPTION: 
CATEGORIES:1
END:VEVENT
BEGIN:VEVENT
UID:58-54
LOCATION:
SUMMARY:BOOKED
DTSTAMP:20170304T135900Z
ORGANIZER;CN=admin@vwlovebus.com.au:MAILTO:admin@vwlovebus.com.au
DTSTART;TZID=Australia/Brisbane:20170304T135900Z
DTEND;TZID=Australia/Brisbane:20170304T135900Z
URL;VALUE=URI:http://vwlovebus.com.au
DESCRIPTION: 
CATEGORIES:1
END:VEVENT
BEGIN:VEVENT
UID:57-53
LOCATION:
SUMMARY:BOOKED
DTSTAMP:20170907T140000Z
ORGANIZER;CN=admin@vwlovebus.com.au:MAILTO:admin@vwlovebus.com.au
DTSTART;TZID=Australia/Brisbane:20170907T140000Z
DTEND;TZID=Australia/Brisbane:20170908T140000
URL;VALUE=URI:http://vwlovebus.com.au
DESCRIPTION: 
CATEGORIES:1
X-FUNAMBOL-ALLDAY: 1
X-MICROSOFT-CDO-ALLDAYEVENT: TRUE

END:VEVENT
BEGIN:VEVENT
UID:56-52
LOCATION:
SUMMARY:BOOKED
DTSTAMP:20161117T140000Z
ORGANIZER;CN=admin@vwlovebus.com.au:MAILTO:admin@vwlovebus.com.au
DTSTART;TZID=Australia/Brisbane:20161117T140000Z
DTEND;TZID=Australia/Brisbane:20161118T140000
URL;VALUE=URI:http://vwlovebus.com.au
DESCRIPTION: 
CATEGORIES:1
X-FUNAMBOL-ALLDAY: 1
X-MICROSOFT-CDO-ALLDAYEVENT: TRUE

END:VEVENT
BEGIN:VEVENT
UID:55-51
LOCATION:
SUMMARY:BOOKED
DTSTAMP:20170505T140000Z
ORGANIZER;CN=admin@vwlovebus.com.au:MAILTO:admin@vwlovebus.com.au
DTSTART;TZID=Australia/Brisbane:20170505T140000Z
DTEND;TZID=Australia/Brisbane:20170506T140000
URL;VALUE=URI:http://vwlovebus.com.au
DESCRIPTION: 
CATEGORIES:1
X-FUNAMBOL-ALLDAY: 1
X-MICROSOFT-CDO-ALLDAYEVENT: TRUE

END:VEVENT
BEGIN:VEVENT
UID:53-50
LOCATION:
SUMMARY:BOOKED
DTSTAMP:20170318T135900Z
ORGANIZER;CN=admin@vwlovebus.com.au:MAILTO:admin@vwlovebus.com.au
DTSTART;TZID=Australia/Brisbane:20170318T135900Z
DTEND;TZID=Australia/Brisbane:20170318T135900Z
URL;VALUE=URI:http://vwlovebus.com.au
DESCRIPTION: 
CATEGORIES:1
END:VEVENT
BEGIN:VEVENT
UID:52-49
LOCATION:
SUMMARY:BOOKED
DTSTAMP:20161116T135900Z
ORGANIZER;CN=admin@vwlovebus.com.au:MAILTO:admin@vwlovebus.com.au
DTSTART;TZID=Australia/Brisbane:20161116T135900Z
DTEND;TZID=Australia/Brisbane:20161116T135900Z
URL;VALUE=URI:http://vwlovebus.com.au
DESCRIPTION: 
CATEGORIES:1
END:VEVENT
BEGIN:VEVENT
UID:54-48
LOCATION:
SUMMARY:BOOKED
DTSTAMP:20170520T135900Z
ORGANIZER;CN=admin@vwlovebus.com.au:MAILTO:admin@vwlovebus.com.au
DTSTART;TZID=Australia/Brisbane:20170520T135900Z
DTEND;TZID=Australia/Brisbane:20170520T135900Z
URL;VALUE=URI:http://vwlovebus.com.au
DESCRIPTION: 
CATEGORIES:1
END:VEVENT
BEGIN:VEVENT
UID:50-47
LOCATION:
SUMMARY:BOOKED
DTSTAMP:20160902T140000Z
ORGANIZER;CN=admin@vwlovebus.com.au:MAILTO:admin@vwlovebus.com.au
DTSTART;TZID=Australia/Brisbane:20160902T140000Z
DTEND;TZID=Australia/Brisbane:20160903T140000
URL;VALUE=URI:http://vwlovebus.com.au
DESCRIPTION: 
CATEGORIES:1
X-FUNAMBOL-ALLDAY: 1
X-MICROSOFT-CDO-ALLDAYEVENT: TRUE

END:VEVENT
BEGIN:VEVENT
UID:49-46
LOCATION:
SUMMARY:BOOKED
DTSTAMP:20160826T135900Z
ORGANIZER;CN=admin@vwlovebus.com.au:MAILTO:admin@vwlovebus.com.au
DTSTART;TZID=Australia/Brisbane:20160826T135900Z
DTEND;TZID=Australia/Brisbane:20160826T135900Z
URL;VALUE=URI:http://vwlovebus.com.au
DESCRIPTION: 
CATEGORIES:1
END:VEVENT
BEGIN:VEVENT
UID:47-44
LOCATION:
SUMMARY:BOOKED
DTSTAMP:20160812T140000Z
ORGANIZER;CN=admin@vwlovebus.com.au:MAILTO:admin@vwlovebus.com.au
DTSTART;TZID=Australia/Brisbane:20160812T140000Z
DTEND;TZID=Australia/Brisbane:20160813T140000
URL;VALUE=URI:http://vwlovebus.com.au
DESCRIPTION: 
CATEGORIES:1
X-FUNAMBOL-ALLDAY: 1
X-MICROSOFT-CDO-ALLDAYEVENT: TRUE

END:VEVENT
BEGIN:VEVENT
UID:46-43
LOCATION:
SUMMARY:BOOKED
DTSTAMP:20170616T140000Z
ORGANIZER;CN=admin@vwlovebus.com.au:MAILTO:admin@vwlovebus.com.au
DTSTART;TZID=Australia/Brisbane:20170616T140000Z
DTEND;TZID=Australia/Brisbane:20170617T140000
URL;VALUE=URI:http://vwlovebus.com.au
DESCRIPTION: 
CATEGORIES:1
X-FUNAMBOL-ALLDAY: 1
X-MICROSOFT-CDO-ALLDAYEVENT: TRUE

END:VEVENT
BEGIN:VEVENT
UID:45-42
LOCATION:
SUMMARY:BOOKED
DTSTAMP:20160430T140000Z
ORGANIZER;CN=admin@vwlovebus.com.au:MAILTO:admin@vwlovebus.com.au
DTSTART;TZID=Australia/Brisbane:20160430T140000Z
DTEND;TZID=Australia/Brisbane:20160501T140000
URL;VALUE=URI:http://vwlovebus.com.au
DESCRIPTION: 
CATEGORIES:1
X-FUNAMBOL-ALLDAY: 1
X-MICROSOFT-CDO-ALLDAYEVENT: TRUE

END:VEVENT
BEGIN:VEVENT
UID:44-41
LOCATION:
SUMMARY:BOOKED
DTSTAMP:20160318T140000Z
ORGANIZER;CN=admin@vwlovebus.com.au:MAILTO:admin@vwlovebus.com.au
DTSTART;TZID=Australia/Brisbane:20160318T140000Z
DTEND;TZID=Australia/Brisbane:20160319T140000
URL;VALUE=URI:http://vwlovebus.com.au
DESCRIPTION: 
CATEGORIES:1
X-FUNAMBOL-ALLDAY: 1
X-MICROSOFT-CDO-ALLDAYEVENT: TRUE

END:VEVENT
BEGIN:VEVENT
UID:42-39
LOCATION:
SUMMARY:BOOKED
DTSTAMP:20160819T140000Z
ORGANIZER;CN=admin@vwlovebus.com.au:MAILTO:admin@vwlovebus.com.au
DTSTART;TZID=Australia/Brisbane:20160819T140000Z
DTEND;TZID=Australia/Brisbane:20160820T140000
URL;VALUE=URI:http://vwlovebus.com.au
DESCRIPTION: 
CATEGORIES:1
X-FUNAMBOL-ALLDAY: 1
X-MICROSOFT-CDO-ALLDAYEVENT: TRUE

END:VEVENT
BEGIN:VEVENT
UID:41-38
LOCATION:
SUMMARY:BOOKED
DTSTAMP:20160624T140000Z
ORGANIZER;CN=admin@vwlovebus.com.au:MAILTO:admin@vwlovebus.com.au
DTSTART;TZID=Australia/Brisbane:20160624T140000Z
DTEND;TZID=Australia/Brisbane:20160625T140000
URL;VALUE=URI:http://vwlovebus.com.au
DESCRIPTION: 
CATEGORIES:1
X-FUNAMBOL-ALLDAY: 1
X-MICROSOFT-CDO-ALLDAYEVENT: TRUE

END:VEVENT
BEGIN:VEVENT
UID:40-37
LOCATION:
SUMMARY:BOOKED
DTSTAMP:20160223T140000Z
ORGANIZER;CN=admin@vwlovebus.com.au:MAILTO:admin@vwlovebus.com.au
DTSTART;TZID=Australia/Brisbane:20160223T140000Z
DTEND;TZID=Australia/Brisbane:20160224T140000
URL;VALUE=URI:http://vwlovebus.com.au
DESCRIPTION: 
CATEGORIES:1
X-FUNAMBOL-ALLDAY: 1
X-MICROSOFT-CDO-ALLDAYEVENT: TRUE

END:VEVENT
BEGIN:VEVENT
UID:39-36
LOCATION:
SUMMARY:BOOKED
DTSTAMP:20160212T140000Z
ORGANIZER;CN=admin@vwlovebus.com.au:MAILTO:admin@vwlovebus.com.au
DTSTART;TZID=Australia/Brisbane:20160212T140000Z
DTEND;TZID=Australia/Brisbane:20160213T134500Z
URL;VALUE=URI:http://vwlovebus.com.au
DESCRIPTION: 
CATEGORIES:1
END:VEVENT
BEGIN:VEVENT
UID:38-35
LOCATION:
SUMMARY:BOOKED
DTSTAMP:20160116T135900Z
ORGANIZER;CN=admin@vwlovebus.com.au:MAILTO:admin@vwlovebus.com.au
DTSTART;TZID=Australia/Brisbane:20160116T135900Z
DTEND;TZID=Australia/Brisbane:20160116T135900Z
URL;VALUE=URI:http://vwlovebus.com.au
DESCRIPTION: 
CATEGORIES:1
END:VEVENT
BEGIN:VEVENT
UID:37-34
LOCATION:
SUMMARY:BOOKED
DTSTAMP:20161112T135900Z
ORGANIZER;CN=admin@vwlovebus.com.au:MAILTO:admin@vwlovebus.com.au
DTSTART;TZID=Australia/Brisbane:20161112T135900Z
DTEND;TZID=Australia/Brisbane:20161112T135900Z
URL;VALUE=URI:http://vwlovebus.com.au
DESCRIPTION: 
CATEGORIES:1
END:VEVENT
BEGIN:VEVENT
UID:36-33
LOCATION:
SUMMARY:BOOKED
DTSTAMP:20160623T140000Z
ORGANIZER;CN=admin@vwlovebus.com.au:MAILTO:admin@vwlovebus.com.au
DTSTART;TZID=Australia/Brisbane:20160623T140000Z
DTEND;TZID=Australia/Brisbane:20160624T140000
URL;VALUE=URI:http://vwlovebus.com.au
DESCRIPTION: 
CATEGORIES:1
X-FUNAMBOL-ALLDAY: 1
X-MICROSOFT-CDO-ALLDAYEVENT: TRUE

END:VEVENT
BEGIN:VEVENT
UID:35-32
LOCATION:
SUMMARY:BOOKED
DTSTAMP:20150911T140000Z
ORGANIZER;CN=admin@vwlovebus.com.au:MAILTO:admin@vwlovebus.com.au
DTSTART;TZID=Australia/Brisbane:20150911T140000Z
DTEND;TZID=Australia/Brisbane:20150912T140000
URL;VALUE=URI:http://vwlovebus.com.au
DESCRIPTION: 
CATEGORIES:1
X-FUNAMBOL-ALLDAY: 1
X-MICROSOFT-CDO-ALLDAYEVENT: TRUE

END:VEVENT
BEGIN:VEVENT
UID:34-31
LOCATION:
SUMMARY:BOOKED
DTSTAMP:20151113T140000Z
ORGANIZER;CN=admin@vwlovebus.com.au:MAILTO:admin@vwlovebus.com.au
DTSTART;TZID=Australia/Brisbane:20151113T140000Z
DTEND;TZID=Australia/Brisbane:20151114T140000
URL;VALUE=URI:http://vwlovebus.com.au
DESCRIPTION: 
CATEGORIES:1
X-FUNAMBOL-ALLDAY: 1
X-MICROSOFT-CDO-ALLDAYEVENT: TRUE

END:VEVENT
BEGIN:VEVENT
UID:33-30
LOCATION:
SUMMARY:BOOKED
DTSTAMP:20160401T140000Z
ORGANIZER;CN=admin@vwlovebus.com.au:MAILTO:admin@vwlovebus.com.au
DTSTART;TZID=Australia/Brisbane:20160401T140000Z
DTEND;TZID=Australia/Brisbane:20160402T140000Z
URL;VALUE=URI:http://vwlovebus.com.au
DESCRIPTION: 
CATEGORIES:1
END:VEVENT
BEGIN:VEVENT
UID:32-29
LOCATION:
SUMMARY:BOOKED
DTSTAMP:20151119T140000Z
ORGANIZER;CN=admin@vwlovebus.com.au:MAILTO:admin@vwlovebus.com.au
DTSTART;TZID=Australia/Brisbane:20151119T140000Z
DTEND;TZID=Australia/Brisbane:20151120T140000Z
URL;VALUE=URI:http://vwlovebus.com.au
DESCRIPTION: 
CATEGORIES:1
END:VEVENT
BEGIN:VEVENT
UID:31-28
LOCATION:
SUMMARY:BOOKED
DTSTAMP:20151016T140000Z
ORGANIZER;CN=admin@vwlovebus.com.au:MAILTO:admin@vwlovebus.com.au
DTSTART;TZID=Australia/Brisbane:20151016T140000Z
DTEND;TZID=Australia/Brisbane:20151017T140000Z
URL;VALUE=URI:http://vwlovebus.com.au
DESCRIPTION: 
CATEGORIES:1
END:VEVENT
BEGIN:VEVENT
UID:30-27
LOCATION:
SUMMARY:BOOKED
DTSTAMP:20151111T140000Z
ORGANIZER;CN=admin@vwlovebus.com.au:MAILTO:admin@vwlovebus.com.au
DTSTART;TZID=Australia/Brisbane:20151111T140000Z
DTEND;TZID=Australia/Brisbane:20151112T140000Z
URL;VALUE=URI:http://vwlovebus.com.au
DESCRIPTION: 
CATEGORIES:1
END:VEVENT
END:VCALENDAR